BEGIN:VCALENDAR
VERSION:2.0
PRODID:-//PSC Training Solutions | Serving Tribal Communities with Integrity - ECPv6.15.18//NONSGML v1.0//EN
CALSCALE:GREGORIAN
METHOD:PUBLISH
X-WR-CALNAME:PSC Training Solutions | Serving Tribal Communities with Integrity
X-ORIGINAL-URL:https://pscprotects.com
X-WR-CALDESC:Events for PSC Training Solutions | Serving Tribal Communities with Integrity
REFRESH-INTERVAL;VALUE=DURATION:PT1H
X-Robots-Tag:noindex
X-PUBLISHED-TTL:PT1H
BEGIN:VTIMEZONE
TZID:America/Denver
BEGIN:DAYLIGHT
TZOFFSETFROM:-0700
TZOFFSETTO:-0600
TZNAME:MDT
DTSTART:20240310T090000
END:DAYLIGHT
BEGIN:STANDARD
TZOFFSETFROM:-0600
TZOFFSETTO:-0700
TZNAME:MST
DTSTART:20241103T080000
END:STANDARD
BEGIN:DAYLIGHT
TZOFFSETFROM:-0700
TZOFFSETTO:-0600
TZNAME:MDT
DTSTART:20250309T090000
END:DAYLIGHT
BEGIN:STANDARD
TZOFFSETFROM:-0600
TZOFFSETTO:-0700
TZNAME:MST
DTSTART:20251102T080000
END:STANDARD
BEGIN:DAYLIGHT
TZOFFSETFROM:-0700
TZOFFSETTO:-0600
TZNAME:MDT
DTSTART:20260308T090000
END:DAYLIGHT
BEGIN:STANDARD
TZOFFSETFROM:-0600
TZOFFSETTO:-0700
TZNAME:MST
DTSTART:20261101T080000
END:STANDARD
END:VTIMEZONE
BEGIN:VEVENT
DTSTART;TZID=America/Denver:20250415T080000
DTEND;TZID=America/Denver:20250416T170000
DTSTAMP:20260421T011741
CREATED:20241205T164414Z
LAST-MODIFIED:20241205T172230Z
UID:2487-1744704000-1744822800@pscprotects.com
SUMMARY:Adjudicators Training Conference
DESCRIPTION:Join Us for the 2025 Adjudicators Training Conference: A Gumshoe Detective Adventure! \nStep into the role of a classic detective at this year’s Adjudicators Training Conference\, where intrigue meets innovation! Designed for professionals who make or support adjudication suitability decisions\, this unique event blends mystery-solving excitement with professional development tailored to your role. \nWhether you’re an Adjudicator\, Background Investigator\, HR Professional\, Supervisor\, Manager\, or Tribal Leader\, this conference is your opportunity to: \n•Build both foundational and advanced adjudication mastery skills. \n•Gain practical toolkits\, actionable insights\, and innovative strategies. \n•Strengthen your decision-making process to better safeguard your community. \nOur 2025 theme\, Gumshoe Detective Adventure\, adds an exciting twist to your learning experience. From the opening ceremony to interactive sessions\, you’ll solve the mystery of Who Stole Melba’s Teddy Bear? while enhancing your professional expertise. \nDon’t miss this chance to sharpen your skills\, network with peers\, and embark on a thrilling detective journey. Register today to take your adjudication expertise to the next level!
URL:https://pscprotects.com/calendar/adjudicators-training-conference/
LOCATION:In-Person Training – Sandia Resort & Casino\, 30 Rainbow Rd NE\, Albuquerque\, NM\, 87113\, United States
CATEGORIES:In-Person Training
ATTACH;FMTTYPE=image/png:https://pscprotects.com/wp-content/uploads/2024/12/Adjudicators-Training-Conference-Logo.png
ORGANIZER;CN="Personnel Security Consultants%2C Inc.":MAILTO:training@pscprotects.com
END:VEVENT
END:VCALENDAR