BEGIN:VCALENDAR
VERSION:2.0
PRODID:-//PSC Training Solutions | Serving Tribal Communities with Integrity - ECPv6.15.18//NONSGML v1.0//EN
CALSCALE:GREGORIAN
METHOD:PUBLISH
X-WR-CALNAME:PSC Training Solutions | Serving Tribal Communities with Integrity
X-ORIGINAL-URL:https://pscprotects.com
X-WR-CALDESC:Events for PSC Training Solutions | Serving Tribal Communities with Integrity
REFRESH-INTERVAL;VALUE=DURATION:PT1H
X-Robots-Tag:noindex
X-PUBLISHED-TTL:PT1H
BEGIN:VTIMEZONE
TZID:UTC
BEGIN:STANDARD
TZOFFSETFROM:+0000
TZOFFSETTO:+0000
TZNAME:UTC
DTSTART:20230101T000000
END:STANDARD
END:VTIMEZONE
BEGIN:VEVENT
DTSTART;VALUE=DATE:20250212
DTEND;VALUE=DATE:20250214
DTSTAMP:20260421T003515
CREATED:20241016T144422Z
LAST-MODIFIED:20250128T161258Z
UID:2233-1739318400-1739491199@pscprotects.com
SUMMARY:Advanced Background Investigator’s Training
DESCRIPTION:REGISTRATION CLOSED \nThis 2-day training session focuses on the advanced skills of conducting employee background investigations. These skills include how to use available search engines; how to conduct character references and interviews; best practices for sending out inquiries and verifications; conducting personal subject interviews; and report writing. \nAll standards contained in the Indian Child Protection and Family Violence Prevention Act (Public Law 101-630)\, Indian Country Law Enforcement Regulations (25 CFR 12) and the Tribal Law and Order Act will be covered. The course consists of both instructor-led lessons and practical exercises that take attendees through realistic investigative scenarios.
URL:https://pscprotects.com/calendar/advanced-background-investigators-training/
LOCATION:In-Person Training – Personnel Security Consultants\, Inc.\, 2116 Vista Oeste NW\, Suite 3\, Albuquerque\, NM\, 87120\, United States
CATEGORIES:In-Person Training
ATTACH;FMTTYPE=image/png:https://pscprotects.com/wp-content/uploads/2024/10/Happenings-3-4.png
ORGANIZER;CN="Personnel Security Consultants%2C Inc.":MAILTO:training@pscprotects.com
END:VEVENT
BEGIN:VEVENT
DTSTART;VALUE=DATE:20250128
DTEND;VALUE=DATE:20250131
DTSTAMP:20260421T003515
CREATED:20241016T144911Z
LAST-MODIFIED:20250108T192751Z
UID:2240-1738022400-1738281599@pscprotects.com
SUMMARY:Tribal Adjudication Professionals (TAP) Certification
DESCRIPTION:Registration is CLOSED! \nTAP Certification program will educate participants on the applicable laws and regulations regarding the background check & and adjudication process specific to tribal governments/enterprises. Participants will understand how to gather and review information to assess the suitability of the job candidates covered under applicable laws\, regulations\, and tribal codes/policies. The curriculum is targeted at legal\, law enforcement\, HR\, and education professionals.
URL:https://pscprotects.com/calendar/tap-certification-training/
LOCATION:In-Person Training – University of Phoenix\, 4035 S Riverpoint Pkwy\, Phoenix\, AZ\, 85040\, United States
CATEGORIES:In-Person Training
ATTACH;FMTTYPE=image/png:https://pscprotects.com/wp-content/uploads/2024/10/Final2_11983_NNAHRA_Update-for-Logo-2.png
ORGANIZER;CN="NNAHRA":MAILTO:bgriffin@nnahra.org
END:VEVENT
BEGIN:VEVENT
DTSTART;VALUE=DATE:20241028
DTEND;VALUE=DATE:20241029
DTSTAMP:20260421T003515
CREATED:20241026T150057Z
LAST-MODIFIED:20241028T013203Z
UID:2253-1730073600-1730159999@pscprotects.com
SUMMARY:Background Investigations for Corrections Positions
DESCRIPTION:On-Line Training
URL:https://pscprotects.com/calendar/background-investigations-for-corrections-positions/
CATEGORIES:On-Line Training
END:VEVENT
BEGIN:VEVENT
DTSTART;VALUE=DATE:20241028
DTEND;VALUE=DATE:20241029
DTSTAMP:20260421T003515
CREATED:20241016T150204Z
LAST-MODIFIED:20241028T013215Z
UID:2257-1730073600-1730159999@pscprotects.com
SUMMARY:Background Investigations for Law Enforcement Positions
DESCRIPTION:On-Line Training
URL:https://pscprotects.com/calendar/background-investigations-for-law-enforcement-positions/
CATEGORIES:On-Line Training
END:VEVENT
BEGIN:VEVENT
DTSTART;VALUE=DATE:20241028
DTEND;VALUE=DATE:20241029
DTSTAMP:20260421T003515
CREATED:20241016T145911Z
LAST-MODIFIED:20241028T013240Z
UID:2251-1730073600-1730159999@pscprotects.com
SUMMARY:Background Investigations for Child Care Positions
DESCRIPTION:Available Now for Enrollment – On-Line Training
URL:https://pscprotects.com/calendar/background-investigations-for-child-care-positions/
CATEGORIES:On-Line Training
END:VEVENT
BEGIN:VEVENT
DTSTART;VALUE=DATE:20241028
DTEND;VALUE=DATE:20241029
DTSTAMP:20260421T003515
CREATED:20241016T145521Z
LAST-MODIFIED:20241028T013228Z
UID:2248-1730073600-1730159999@pscprotects.com
SUMMARY:Background Checks: An Overview for Tribal Organizations
DESCRIPTION:Available Now for Enrollment – On-Line Training
URL:https://pscprotects.com/calendar/background-checks-an-overview-for-tribal-organizations/
CATEGORIES:On-Line Training
END:VEVENT
END:VCALENDAR