BEGIN:VCALENDAR
VERSION:2.0
PRODID:-//PSC Training Solutions | Serving Tribal Communities with Integrity - ECPv6.15.18//NONSGML v1.0//EN
CALSCALE:GREGORIAN
METHOD:PUBLISH
X-WR-CALNAME:PSC Training Solutions | Serving Tribal Communities with Integrity
X-ORIGINAL-URL:https://pscprotects.com
X-WR-CALDESC:Events for PSC Training Solutions | Serving Tribal Communities with Integrity
REFRESH-INTERVAL;VALUE=DURATION:PT1H
X-Robots-Tag:noindex
X-PUBLISHED-TTL:PT1H
BEGIN:VTIMEZONE
TZID:UTC
BEGIN:STANDARD
TZOFFSETFROM:+0000
TZOFFSETTO:+0000
TZNAME:UTC
DTSTART:20250101T000000
END:STANDARD
END:VTIMEZONE
BEGIN:VEVENT
DTSTART;VALUE=DATE:20260106
DTEND;VALUE=DATE:20260109
DTSTAMP:20260420T192637
CREATED:20251126T072523Z
LAST-MODIFIED:20260107T193128Z
UID:3782-1767657600-1767916799@pscprotects.com
SUMMARY:NNAHRA Tribal Adjudication Professionals Training
DESCRIPTION:REGISTER HERE – https://nnahra.org/event/tribal-adjudication-professional-tap/ \nIn partnership with NNAHRA\, we are proud to announce this exciting opportunity for NNAHRA Members and anyone working for tribal communities. \nTribal Adjudication Professionals Training (TAP) is a comprehensive\, two-part certification program designed to equip participants with the knowledge and skills necessary for effective adjudication. The program begins with a prerequisite online course that explores policies\, procedures\, background investigation processes\, and the intricacies of adjudication certification\, all with a focus on their applicability to Indian Tribes and Tribal Organizations. This online component provides a foundational understanding and concludes with a certificate of completion. Participants must complete the online course at least one week prior to attending the in-person training. The in-person training is a 2.5-day immersive experience\, led by a seasoned Lead Instructor and Legal Advisor. This segment deepens participants’ expertise through hands-on learning and practical application of adjudication principles. \n*This training is valid for 22 hours towards a THRP I\, THRP II and TMP recertification.
URL:https://pscprotects.com/calendar/nnahra-tribal-adjudication-professionals-training/
LOCATION:In-Person Training – Phoenix\, AZ
CATEGORIES:In-Person Training
ATTACH;FMTTYPE=image/png:https://pscprotects.com/wp-content/uploads/2024/10/Final2_11983_NNAHRA_Update-for-Logo-2.png
END:VEVENT
BEGIN:VEVENT
DTSTART;VALUE=DATE:20260210
DTEND;VALUE=DATE:20260212
DTSTAMP:20260420T192637
CREATED:20251126T071736Z
LAST-MODIFIED:20260130T195301Z
UID:3777-1770681600-1770854399@pscprotects.com
SUMMARY:Background Investigation & Adjudication Certification Training for Law Enforcement / Corrections
DESCRIPTION:This training session is currently full.\nTo join the waiting list\, please reach out to our team at training@pscprotects.com.\n  \nThis 2-day training session is designed for Human Resources teams\, public safety and law enforcement executive teams\, correctional administrative teams\, background investigators\, and other professionals involved in conducting or overseeing background investigations and adjudications for law enforcement and corrections positions. \nThis in-person training is an immersive experience led by experienced instructors and legal advisors. Learners engage in case-based exercises\, practical application\, and guided discussions on suitability standards\, statutory bars\, and issues specific to law enforcement and corrections. The certification concludes with an exam\, requiring a passing score to earn certification. \nThis certification program includes access to 2 online prerequisite course: \n\nBackground Checks: An Overview.\nCompliant Background Investigations for “Law Enforcement & Corrections” Positions\n\nParticipants must complete online prerequisite prior to attending the in-person training. Prerequisite training starts February 4\, 2026. \n  \n 
URL:https://pscprotects.com/calendar/background-investigation-adjudication-certification-training-for-law-enforcement-corrections/
LOCATION:In-Person Training – AMERIND\, 502 Cedar Dr.\, Santa Ana Pueblo\, NM\, 87004\, United States
CATEGORIES:In-Person Training
ATTACH;FMTTYPE=image/png:https://pscprotects.com/wp-content/uploads/2025/11/Background.png
END:VEVENT
BEGIN:VEVENT
DTSTART;VALUE=DATE:20260212
DTEND;VALUE=DATE:20260213
DTSTAMP:20260420T192637
CREATED:20251201T022654Z
LAST-MODIFIED:20260107T202822Z
UID:4163-1770854400-1770940799@pscprotects.com
SUMMARY:Fingerprint Certification Training
DESCRIPTION:REGISTER HERE: https://pscprotects.com/course-completion/fingerprint-certification-in-person-training/  \nThis 1-day training session focuses on the requirements for protecting fingerprint based criminal history reports and the proper techniques for capturing fingerprints via hard card submission and/or live can submissions. The training will also include an overview of fingerprinting history and instruction on how to properly complete fingerprint submissions. The session offers hands-on instruction on taking a set of clear and legible fingerprints for processing. After completion of the training\, attendees will be provided FBI approved forms\, be able to take fingerprints and properly perform basic classification of fingerprints. \n\nThis in-person event is a training opportunity for the hard card fingerprint rolling and Livescan workstation machines.  \nParticipants will receive a certificate of completion upon meeting course requirements. The certification process includes: \n\nA final exam with a required passing score of 80%.\nA hands-on demonstration of fingerprinting skills\, where students must successfully capture legible prints.\n\nThis training meets the FBI annual training requirement for FBI Authorized recipients. \n 
URL:https://pscprotects.com/calendar/fingerprint-certification-training-feb/
LOCATION:In-Person Training – AMERIND\, 502 Cedar Dr.\, Santa Ana Pueblo\, NM\, 87004\, United States
CATEGORIES:In-Person Training
ATTACH;FMTTYPE=image/png:https://pscprotects.com/wp-content/uploads/2024/10/Happenings-3.png
ORGANIZER;CN="Personnel Security Consultants%2C Inc.":MAILTO:training@pscprotects.com
END:VEVENT
BEGIN:VEVENT
DTSTART;VALUE=DATE:20260414
DTEND;VALUE=DATE:20260416
DTSTAMP:20260420T192637
CREATED:20251126T075534Z
LAST-MODIFIED:20260209T162721Z
UID:3812-1776124800-1776297599@pscprotects.com
SUMMARY:Adjudicators Training Conference  Sandia Resort & Casino
DESCRIPTION:REGISTER HERE:  3rd Annual Adjudicators Training Conference \nJoin us for the 3rd Annual Adjudicators Training Conference\, a two-day\, in-person experience designed for professionals who make—or support—critical adjudication and suitability decisions. Building on the momentum of our previous conferences\, this year’s program focuses on how we responsibly play the hand we are dealt to protect our communities. \nWhether you’re an Adjudicator\, Background Investigator\, HR Professional\, Supervisor\, Manager\, or Tribal Leader seeking your initial Adjudicator Certification\, looking to recertify\, or strengthening your adjudication expertise\, conference is designed around the real-world responsibilities you face and the hand you’re dealt when safeguarding your community through sound adjudication.
URL:https://pscprotects.com/calendar/adjudicators-training-conference-sandia-resort-casino/
LOCATION:In-Person Training – Albuquerque\, NM
CATEGORIES:In-Person Training
ATTACH;FMTTYPE=image/png:https://pscprotects.com/wp-content/uploads/2025/11/Adjudicator-Logo.png
END:VEVENT
BEGIN:VEVENT
DTSTART;VALUE=DATE:20260512
DTEND;VALUE=DATE:20260514
DTSTAMP:20260420T192637
CREATED:20251201T022256Z
LAST-MODIFIED:20260209T170648Z
UID:4159-1778544000-1778716799@pscprotects.com
SUMMARY:NNAHRA Women’s Summit
DESCRIPTION:REGISTER HERE: https://nnahra.org/2026-womens-summit/ \nOn May 12th through 13th\, 2026\, the Women’s Summit\, consisting of informative panel discussions\, interactive breakout sessions\, and stimulating networking events\, promises to deliver on the TGPN’s commitment to support and encourage professional development of our colleagues working in tribal gaming. The Summit kicks off with a mixer on Monday\, May 11th\, at 6:00 pm for those able to attend. \nWe want to encourage all women involved in tribal gaming to share in our goal of promoting diversity within the tribal industry. We would like to take this opportunity to celebrate women and their essential contributions and leadership within our industry. \nThe gathering of the most eclectic\, innovative\, and trend-setting HR professionals\, tribal government\, and gaming industry leaders. More than 200 women and men have attended the symposium each year since its inception. Representing various tribes\, businesses\, gaming operations\, and gaming professionals\, the Women’s Summit will be an incredible experience.
URL:https://pscprotects.com/calendar/nnahra-womens-summit/
LOCATION:Conference – Chandler\, AZ
CATEGORIES:Conference
ATTACH;FMTTYPE=image/png:https://pscprotects.com/wp-content/uploads/2025/11/NHHARA-2.png
ORGANIZER;CN="NNAHRA":MAILTO:bgriffin@nnahra.org
END:VEVENT
BEGIN:VEVENT
DTSTART;VALUE=DATE:20260526
DTEND;VALUE=DATE:20260529
DTSTAMP:20260420T192637
CREATED:20251126T072052Z
LAST-MODIFIED:20251126T072944Z
UID:3779-1779753600-1780012799@pscprotects.com
SUMMARY:Background Investigation & Adjudication Certification Invitational
DESCRIPTION:
URL:https://pscprotects.com/calendar/background-investigation-adjudication-certification-invitational/
LOCATION:In-Person Training – Port Gamble\, WA
CATEGORIES:In-Person Training
ATTACH;FMTTYPE=image/png:https://pscprotects.com/wp-content/uploads/2024/10/Happenings-3-4.png
END:VEVENT
BEGIN:VEVENT
DTSTART;VALUE=DATE:20260602
DTEND;VALUE=DATE:20260605
DTSTAMP:20260420T192637
CREATED:20251126T072735Z
LAST-MODIFIED:20260209T170158Z
UID:3786-1780358400-1780617599@pscprotects.com
SUMMARY:NNAHRA Tribal Adjudication Professionals Training
DESCRIPTION:REGISTER HERE: https://nnahra.org/about-tap/ \n  \nIn partnership with NNAHRA\, we are proud to announce this exciting opportunity for NNAHRA Members and anyone working for tribal communities. \nTribal Adjudication Professionals Training (TAP) is a comprehensive\, two-part certification program designed to equip participants with the knowledge and skills necessary for effective adjudication. The program begins with a prerequisite online course that explores policies\, procedures\, background investigation processes\, and the intricacies of adjudication certification\, all with a focus on their applicability to Indian Tribes and Tribal Organizations. This online component provides a foundational understanding and concludes with a certificate of completion. Participants must complete the online course at least one week prior to attending the in-person training. The in-person training is a 2.5-day immersive experience\, led by a seasoned Lead Instructor and Legal Advisor. This segment deepens participants’ expertise through hands-on learning and practical application of adjudication principles. \n*This training is valid for 22 hours towards a THRP I\, THRP II and TMP recertification.
URL:https://pscprotects.com/calendar/nnahra-tribal-adjudication-professionals-training-june/
LOCATION:In-Person Training : Gila River Resorts & Casinos – Wild Horse Pass Chandler\, AZ
CATEGORIES:In-Person Training
ATTACH;FMTTYPE=image/png:https://pscprotects.com/wp-content/uploads/2025/11/Final2_11983_NNAHRA_Update-for-Logo-2-e1770656466234.png
END:VEVENT
BEGIN:VEVENT
DTSTART;VALUE=DATE:20260616
DTEND;VALUE=DATE:20260617
DTSTAMP:20260420T192637
CREATED:20241016T144527Z
LAST-MODIFIED:20251126T071257Z
UID:2235-1781568000-1781654399@pscprotects.com
SUMMARY:Fingerprint Certification Training
DESCRIPTION:REGISTER HERE: https://pscprotects.com/course-completion/fingerprint-certification-in-person-training/  \nThis 1-day in-person training session focuses on the requirements for protecting fingerprint based criminal history reports and the proper techniques for capturing fingerprints via hard card submission and/or live can submissions. The training will also include an overview of fingerprinting history and instruction on how to properly complete fingerprint submissions. The session offers hands-on instruction on taking a set of clear and legible fingerprints for processing. After completion of the training\, attendees will be provided FBI approved forms\, be able to take fingerprints and properly perform basic classification of fingerprints.
URL:https://pscprotects.com/calendar/fingerprint-certification-training/
LOCATION:In-Person Training – AMERIND\, 502 Cedar Dr.\, Santa Ana Pueblo\, NM\, 87004\, United States
CATEGORIES:In-Person Training
ATTACH;FMTTYPE=image/png:https://pscprotects.com/wp-content/uploads/2024/10/Happenings-3.png
END:VEVENT
BEGIN:VEVENT
DTSTART;VALUE=DATE:20260617
DTEND;VALUE=DATE:20260619
DTSTAMP:20260420T192637
CREATED:20251126T074355Z
LAST-MODIFIED:20251126T074653Z
UID:3790-1781654400-1781827199@pscprotects.com
SUMMARY:Policy Development Workshop – Focus on Multi-Level Position Designations
DESCRIPTION:
URL:https://pscprotects.com/calendar/policy-development-workshop-focus-on-multi-level-position-designations/
LOCATION:In-Person Training – AMERIND\, 502 Cedar Dr.\, Santa Ana Pueblo\, NM\, 87004\, United States
CATEGORIES:In-Person Training
END:VEVENT
BEGIN:VEVENT
DTSTART;VALUE=DATE:20260722
DTEND;VALUE=DATE:20260724
DTSTAMP:20260420T192637
CREATED:20251126T075853Z
LAST-MODIFIED:20260209T171010Z
UID:3818-1784678400-1784851199@pscprotects.com
SUMMARY:School Boards Forum for Sovereignty  Indian Pueblo Cultural Center
DESCRIPTION:Join fellow education leaders\, administrators\, and board members from across Indian Country for a focused forum designed to elevate governance\, accountability\, and cultural reservation in Tribally controlled schools. From legal responsibilities and strategic planning to embedding Native culture and protecting student safety\, this forum equips school boards with the tools and confidence to lead with clarity and impact.
URL:https://pscprotects.com/calendar/school-boards-forum-for-sovereignty-indian-pueblo-cultural-center/
LOCATION:In-Person Training – Albuquerque\, NM
CATEGORIES:In-Person Training
ATTACH;FMTTYPE=image/png:https://pscprotects.com/wp-content/uploads/2025/08/FINAL_Logo_School_Board_Forum_for_Sovereignty_with_Text_No_Background-e1755700907763.png
END:VEVENT
BEGIN:VEVENT
DTSTART;VALUE=DATE:20260804
DTEND;VALUE=DATE:20260807
DTSTAMP:20260420T192637
CREATED:20251126T072917Z
LAST-MODIFIED:20260209T170414Z
UID:3787-1785801600-1786060799@pscprotects.com
SUMMARY:NNAHRA Tribal Adjudication Professionals Training
DESCRIPTION:REGISTER HERE: https://nnahra.org/about-tap/ \n  \nIn partnership with NNAHRA\, we are proud to announce this exciting opportunity for NNAHRA Members and anyone working for tribal communities. \nTribal Adjudication Professionals Training (TAP) is a comprehensive\, two-part certification program designed to equip participants with the knowledge and skills necessary for effective adjudication. The program begins with a prerequisite online course that explores policies\, procedures\, background investigation processes\, and the intricacies of adjudication certification\, all with a focus on their applicability to Indian Tribes and Tribal Organizations. This online component provides a foundational understanding and concludes with a certificate of completion. Participants must complete the online course at least one week prior to attending the in-person training. The in-person training is a 2.5-day immersive experience\, led by a seasoned Lead Instructor and Legal Advisor. This segment deepens participants’ expertise through hands-on learning and practical application of adjudication principles. \n*This training is valid for 22 hours towards a THRP I\, THRP II and TMP recertification.
URL:https://pscprotects.com/calendar/nnahra-tribal-adjudication-professionals-training-aug/
LOCATION:In-Person Training – Durant\, OK
CATEGORIES:In-Person Training
ATTACH;FMTTYPE=image/png:https://pscprotects.com/wp-content/uploads/2025/11/Final2_11983_NNAHRA_Update-for-Logo-2-e1770656466234.png
END:VEVENT
BEGIN:VEVENT
DTSTART;VALUE=DATE:20260818
DTEND;VALUE=DATE:20260820
DTSTAMP:20260420T192637
CREATED:20251126T075956Z
LAST-MODIFIED:20251126T075956Z
UID:3814-1787011200-1787183999@pscprotects.com
SUMMARY:Gentle Warrior Retreat
DESCRIPTION:
URL:https://pscprotects.com/calendar/gentle-warrior-retreat/
LOCATION:In-Person Training – Seward\, AK
CATEGORIES:In-Person Training
END:VEVENT
BEGIN:VEVENT
DTSTART;VALUE=DATE:20260915
DTEND;VALUE=DATE:20260916
DTSTAMP:20260420T192637
CREATED:20241016T134347Z
LAST-MODIFIED:20251126T071237Z
UID:2219-1789430400-1789516799@pscprotects.com
SUMMARY:Fingerprint Certification Training
DESCRIPTION:REGISTER HERE: https://pscprotects.com/course-completion/fingerprint-certification-in-person-training/  \nThis 1-day training session focuses on the requirements for protecting fingerprint based criminal history reports and the proper techniques for capturing fingerprints via hard card submission and/or live can submissions. The training will also include an overview of fingerprinting history and instruction on how to properly complete fingerprint submissions. The session offers hands-on instruction on taking a set of clear and legible fingerprints for processing. After completion of the training\, attendees will be provided FBI approved forms\, be able to take fingerprints and properly perform basic classification of fingerprints.
URL:https://pscprotects.com/calendar/fingerprint-certification/
LOCATION:In-Person Training – AMERIND\, 502 Cedar Dr.\, Santa Ana Pueblo\, NM\, 87004\, United States
CATEGORIES:In-Person Training
ATTACH;FMTTYPE=image/png:https://pscprotects.com/wp-content/uploads/2024/10/Happenings-3.png
ORGANIZER;CN="Personnel Security Consultants%2C Inc.":MAILTO:training@pscprotects.com
END:VEVENT
BEGIN:VEVENT
DTSTART;VALUE=DATE:20260916
DTEND;VALUE=DATE:20260918
DTSTAMP:20260420T192637
CREATED:20251126T073704Z
LAST-MODIFIED:20251126T073704Z
UID:3789-1789516800-1789689599@pscprotects.com
SUMMARY:Policy Development Workshop – Focus on Healthcare Position Designations
DESCRIPTION:
URL:https://pscprotects.com/calendar/policy-development-workshop-focus-on-healthcare-position-designations/
LOCATION:In-Person Training – AMERIND\, 502 Cedar Dr.\, Santa Ana Pueblo\, NM\, 87004\, United States
CATEGORIES:In-Person Training
END:VEVENT
BEGIN:VEVENT
DTSTART;VALUE=DATE:20260927
DTEND;VALUE=DATE:20261001
DTSTAMP:20260420T192637
CREATED:20251201T022351Z
LAST-MODIFIED:20251201T022351Z
UID:4160-1790467200-1790812799@pscprotects.com
SUMMARY:NNAHRA Annual Conference
DESCRIPTION:
URL:https://pscprotects.com/calendar/nnahra-annual-conference/
LOCATION:Conference – Honolulu\, HI
CATEGORIES:Conference
ATTACH;FMTTYPE=image/png:https://pscprotects.com/wp-content/uploads/2025/11/NHHARA-2.png
ORGANIZER;CN="NNAHRA":MAILTO:bgriffin@nnahra.org
END:VEVENT
BEGIN:VEVENT
DTSTART;VALUE=DATE:20261013
DTEND;VALUE=DATE:20261016
DTSTAMP:20260420T192637
CREATED:20251126T073149Z
LAST-MODIFIED:20251126T074644Z
UID:3788-1791849600-1792108799@pscprotects.com
SUMMARY:NNAHRA Tribal Adjudication Professionals Training
DESCRIPTION:
URL:https://pscprotects.com/calendar/nnahra-tribal-adjudication-professionals-training-oct/
LOCATION:In-Person Training – TBD
CATEGORIES:In-Person Training
ATTACH;FMTTYPE=image/png:https://pscprotects.com/wp-content/uploads/2025/11/NHHARA-2.png
END:VEVENT
END:VCALENDAR