BEGIN:VCALENDAR
VERSION:2.0
PRODID:-//PSC Training Solutions | Serving Tribal Communities with Integrity - ECPv6.15.18//NONSGML v1.0//EN
CALSCALE:GREGORIAN
METHOD:PUBLISH
X-WR-CALNAME:PSC Training Solutions | Serving Tribal Communities with Integrity
X-ORIGINAL-URL:https://pscprotects.com
X-WR-CALDESC:Events for PSC Training Solutions | Serving Tribal Communities with Integrity
REFRESH-INTERVAL;VALUE=DURATION:PT1H
X-Robots-Tag:noindex
X-PUBLISHED-TTL:PT1H
BEGIN:VTIMEZONE
TZID:UTC
BEGIN:STANDARD
TZOFFSETFROM:+0000
TZOFFSETTO:+0000
TZNAME:UTC
DTSTART:20250101T000000
END:STANDARD
END:VTIMEZONE
BEGIN:VEVENT
DTSTART;VALUE=DATE:20260602
DTEND;VALUE=DATE:20260605
DTSTAMP:20260420T151543
CREATED:20251126T072735Z
LAST-MODIFIED:20260209T170158Z
UID:3786-1780358400-1780617599@pscprotects.com
SUMMARY:NNAHRA Tribal Adjudication Professionals Training
DESCRIPTION:REGISTER HERE: https://nnahra.org/about-tap/ \n  \nIn partnership with NNAHRA\, we are proud to announce this exciting opportunity for NNAHRA Members and anyone working for tribal communities. \nTribal Adjudication Professionals Training (TAP) is a comprehensive\, two-part certification program designed to equip participants with the knowledge and skills necessary for effective adjudication. The program begins with a prerequisite online course that explores policies\, procedures\, background investigation processes\, and the intricacies of adjudication certification\, all with a focus on their applicability to Indian Tribes and Tribal Organizations. This online component provides a foundational understanding and concludes with a certificate of completion. Participants must complete the online course at least one week prior to attending the in-person training. The in-person training is a 2.5-day immersive experience\, led by a seasoned Lead Instructor and Legal Advisor. This segment deepens participants’ expertise through hands-on learning and practical application of adjudication principles. \n*This training is valid for 22 hours towards a THRP I\, THRP II and TMP recertification.
URL:https://pscprotects.com/calendar/nnahra-tribal-adjudication-professionals-training-june/
LOCATION:In-Person Training : Gila River Resorts & Casinos – Wild Horse Pass Chandler\, AZ
CATEGORIES:In-Person Training
ATTACH;FMTTYPE=image/png:https://pscprotects.com/wp-content/uploads/2025/11/Final2_11983_NNAHRA_Update-for-Logo-2-e1770656466234.png
END:VEVENT
BEGIN:VEVENT
DTSTART;VALUE=DATE:20260616
DTEND;VALUE=DATE:20260617
DTSTAMP:20260420T151543
CREATED:20241016T144527Z
LAST-MODIFIED:20251126T071257Z
UID:2235-1781568000-1781654399@pscprotects.com
SUMMARY:Fingerprint Certification Training
DESCRIPTION:REGISTER HERE: https://pscprotects.com/course-completion/fingerprint-certification-in-person-training/  \nThis 1-day in-person training session focuses on the requirements for protecting fingerprint based criminal history reports and the proper techniques for capturing fingerprints via hard card submission and/or live can submissions. The training will also include an overview of fingerprinting history and instruction on how to properly complete fingerprint submissions. The session offers hands-on instruction on taking a set of clear and legible fingerprints for processing. After completion of the training\, attendees will be provided FBI approved forms\, be able to take fingerprints and properly perform basic classification of fingerprints.
URL:https://pscprotects.com/calendar/fingerprint-certification-training/
LOCATION:In-Person Training – AMERIND\, 502 Cedar Dr.\, Santa Ana Pueblo\, NM\, 87004\, United States
CATEGORIES:In-Person Training
ATTACH;FMTTYPE=image/png:https://pscprotects.com/wp-content/uploads/2024/10/Happenings-3.png
END:VEVENT
BEGIN:VEVENT
DTSTART;VALUE=DATE:20260617
DTEND;VALUE=DATE:20260619
DTSTAMP:20260420T151543
CREATED:20251126T074355Z
LAST-MODIFIED:20251126T074653Z
UID:3790-1781654400-1781827199@pscprotects.com
SUMMARY:Policy Development Workshop – Focus on Multi-Level Position Designations
DESCRIPTION:
URL:https://pscprotects.com/calendar/policy-development-workshop-focus-on-multi-level-position-designations/
LOCATION:In-Person Training – AMERIND\, 502 Cedar Dr.\, Santa Ana Pueblo\, NM\, 87004\, United States
CATEGORIES:In-Person Training
END:VEVENT
END:VCALENDAR