BEGIN:VCALENDAR
VERSION:2.0
PRODID:-//PSC Training Solutions | Serving Tribal Communities with Integrity - ECPv6.15.18//NONSGML v1.0//EN
CALSCALE:GREGORIAN
METHOD:PUBLISH
X-WR-CALNAME:PSC Training Solutions | Serving Tribal Communities with Integrity
X-ORIGINAL-URL:https://pscprotects.com
X-WR-CALDESC:Events for PSC Training Solutions | Serving Tribal Communities with Integrity
REFRESH-INTERVAL;VALUE=DURATION:PT1H
X-Robots-Tag:noindex
X-PUBLISHED-TTL:PT1H
BEGIN:VTIMEZONE
TZID:UTC
BEGIN:STANDARD
TZOFFSETFROM:+0000
TZOFFSETTO:+0000
TZNAME:UTC
DTSTART:20250101T000000
END:STANDARD
END:VTIMEZONE
BEGIN:VEVENT
DTSTART;VALUE=DATE:20260106
DTEND;VALUE=DATE:20260109
DTSTAMP:20260420T134116
CREATED:20251126T072523Z
LAST-MODIFIED:20260107T193128Z
UID:3782-1767657600-1767916799@pscprotects.com
SUMMARY:NNAHRA Tribal Adjudication Professionals Training
DESCRIPTION:REGISTER HERE – https://nnahra.org/event/tribal-adjudication-professional-tap/ \nIn partnership with NNAHRA\, we are proud to announce this exciting opportunity for NNAHRA Members and anyone working for tribal communities. \nTribal Adjudication Professionals Training (TAP) is a comprehensive\, two-part certification program designed to equip participants with the knowledge and skills necessary for effective adjudication. The program begins with a prerequisite online course that explores policies\, procedures\, background investigation processes\, and the intricacies of adjudication certification\, all with a focus on their applicability to Indian Tribes and Tribal Organizations. This online component provides a foundational understanding and concludes with a certificate of completion. Participants must complete the online course at least one week prior to attending the in-person training. The in-person training is a 2.5-day immersive experience\, led by a seasoned Lead Instructor and Legal Advisor. This segment deepens participants’ expertise through hands-on learning and practical application of adjudication principles. \n*This training is valid for 22 hours towards a THRP I\, THRP II and TMP recertification.
URL:https://pscprotects.com/calendar/nnahra-tribal-adjudication-professionals-training/
LOCATION:In-Person Training – Phoenix\, AZ
CATEGORIES:In-Person Training
ATTACH;FMTTYPE=image/png:https://pscprotects.com/wp-content/uploads/2024/10/Final2_11983_NNAHRA_Update-for-Logo-2.png
END:VEVENT
END:VCALENDAR