BEGIN:VCALENDAR
VERSION:2.0
PRODID:-//PSC Training Solutions | Serving Tribal Communities with Integrity - ECPv6.15.18//NONSGML v1.0//EN
CALSCALE:GREGORIAN
METHOD:PUBLISH
X-WR-CALNAME:PSC Training Solutions | Serving Tribal Communities with Integrity
X-ORIGINAL-URL:https://pscprotects.com
X-WR-CALDESC:Events for PSC Training Solutions | Serving Tribal Communities with Integrity
REFRESH-INTERVAL;VALUE=DURATION:PT1H
X-Robots-Tag:noindex
X-PUBLISHED-TTL:PT1H
BEGIN:VTIMEZONE
TZID:UTC
BEGIN:STANDARD
TZOFFSETFROM:+0000
TZOFFSETTO:+0000
TZNAME:UTC
DTSTART:20240101T000000
END:STANDARD
END:VTIMEZONE
BEGIN:VEVENT
DTSTART;VALUE=DATE:20250917
DTEND;VALUE=DATE:20250919
DTSTAMP:20260420T192224
CREATED:20250819T142922Z
LAST-MODIFIED:20251126T073008Z
UID:3032-1758067200-1758239999@pscprotects.com
SUMMARY:Tribal Governance in Action: School Boards Forum for Sovereignty
DESCRIPTION:Join fellow education leaders\, administrators\, and board members from across Indian Country for a focused forum designed to elevate governance\, accountability\, and cultural preservation in Tribally controlled schools. From legal responsibilities and strategic planning to embedding Native culture and protecting student safety\, this forum equips school boards with tools and confidence to lead with clarity and impact.
URL:https://pscprotects.com/calendar/tribal-governance-in-action-school-boards-forum-for-sovereignty/
LOCATION:In-Person Training – Indian Pueblo Cultural Center\, 2401 12th St NW\, Albuquerque\, NM\, 87104\, United States
CATEGORIES:In-Person Training
ATTACH;FMTTYPE=image/png:https://pscprotects.com/wp-content/uploads/2025/08/FINAL_Logo_School_Board_Forum_for_Sovereignty_with_Text_No_Background-e1755700907763.png
END:VEVENT
END:VCALENDAR