BEGIN:VCALENDAR
VERSION:2.0
PRODID:-//PSC Training Solutions | Serving Tribal Communities with Integrity - ECPv6.15.18//NONSGML v1.0//EN
CALSCALE:GREGORIAN
METHOD:PUBLISH
X-WR-CALNAME:PSC Training Solutions | Serving Tribal Communities with Integrity
X-ORIGINAL-URL:https://pscprotects.com
X-WR-CALDESC:Events for PSC Training Solutions | Serving Tribal Communities with Integrity
REFRESH-INTERVAL;VALUE=DURATION:PT1H
X-Robots-Tag:noindex
X-PUBLISHED-TTL:PT1H
BEGIN:VTIMEZONE
TZID:UTC
BEGIN:STANDARD
TZOFFSETFROM:+0000
TZOFFSETTO:+0000
TZNAME:UTC
DTSTART:20240101T000000
END:STANDARD
END:VTIMEZONE
BEGIN:VEVENT
DTSTART;VALUE=DATE:20250617
DTEND;VALUE=DATE:20250620
DTSTAMP:20260420T233812
CREATED:20241016T145333Z
LAST-MODIFIED:20250305T032840Z
UID:2245-1750118400-1750377599@pscprotects.com
SUMMARY:Tribal Adjudication Professionals (TAP) Certification
DESCRIPTION:REGISTRATION OPENING SOON!! \nTAP Certification program will educate participants on the applicable laws and regulations regarding the background check & and adjudication process specific to tribal governments/enterprises. Participants will understand how to gather and review information to assess the suitability of the job candidates covered under applicable laws\, regulations\, and tribal codes/policies. The curriculum is targeted at legal\, law enforcement\, HR\, and education professionals. \n 
URL:https://pscprotects.com/calendar/tap-certification-training-3/
LOCATION:In-Person Training – Alaska Native Heritage Center\, 8800 Heritage Center Dr\, Anchorage\, AK\, 99504\, United States
CATEGORIES:In-Person Training
ATTACH;FMTTYPE=image/png:https://pscprotects.com/wp-content/uploads/2024/10/Final2_11983_NNAHRA_Update-for-Logo-2.png
ORGANIZER;CN="NNAHRA":MAILTO:bgriffin@nnahra.org
END:VEVENT
END:VCALENDAR